BEGIN:VCALENDAR
VERSION:2.0
PRODID:-//Grund- und Mittelschule Freudenberg - ECPv6.15.20//NONSGML v1.0//EN
CALSCALE:GREGORIAN
METHOD:PUBLISH
X-ORIGINAL-URL:https://www.gms-freudenberg.de
X-WR-CALDESC:Veranstaltungen für Grund- und Mittelschule Freudenberg
REFRESH-INTERVAL;VALUE=DURATION:PT1H
X-Robots-Tag:noindex
X-PUBLISHED-TTL:PT1H
BEGIN:VTIMEZONE
TZID:Europe/Berlin
BEGIN:DAYLIGHT
TZOFFSETFROM:+0100
TZOFFSETTO:+0200
TZNAME:CEST
DTSTART:20210328T010000
END:DAYLIGHT
BEGIN:STANDARD
TZOFFSETFROM:+0200
TZOFFSETTO:+0100
TZNAME:CET
DTSTART:20211031T010000
END:STANDARD
BEGIN:DAYLIGHT
TZOFFSETFROM:+0100
TZOFFSETTO:+0200
TZNAME:CEST
DTSTART:20220327T010000
END:DAYLIGHT
BEGIN:STANDARD
TZOFFSETFROM:+0200
TZOFFSETTO:+0100
TZNAME:CET
DTSTART:20221030T010000
END:STANDARD
BEGIN:DAYLIGHT
TZOFFSETFROM:+0100
TZOFFSETTO:+0200
TZNAME:CEST
DTSTART:20230326T010000
END:DAYLIGHT
BEGIN:STANDARD
TZOFFSETFROM:+0200
TZOFFSETTO:+0100
TZNAME:CET
DTSTART:20231029T010000
END:STANDARD
END:VTIMEZONE
BEGIN:VEVENT
DTSTART;TZID=Europe/Berlin:20221107T080000
DTEND;TZID=Europe/Berlin:20221111T170000
DTSTAMP:20260422T121508
CREATED:20221107T190610Z
LAST-MODIFIED:20221107T190610Z
UID:1764-1667808000-1668186000@www.gms-freudenberg.de
SUMMARY:Probenfreie Woche für die vierte Klasse
DESCRIPTION:
URL:https://www.gms-freudenberg.de/kalender/probenfreie-woche-fuer-die-vierte-klasse/
END:VEVENT
BEGIN:VEVENT
DTSTART;VALUE=DATE:20221116
DTEND;VALUE=DATE:20221117
DTSTAMP:20260422T121508
CREATED:20220920T083343Z
LAST-MODIFIED:20220920T083343Z
UID:1589-1668556800-1668643199@www.gms-freudenberg.de
SUMMARY:Buß- und Bettag (unterrichtsfrei)
DESCRIPTION:
URL:https://www.gms-freudenberg.de/kalender/buss-und-bettag-unterrichtsfrei/
END:VEVENT
BEGIN:VEVENT
DTSTART;TZID=Europe/Berlin:20221117T170000
DTEND;TZID=Europe/Berlin:20221117T190000
DTSTAMP:20260422T121508
CREATED:20221120T224740Z
LAST-MODIFIED:20221120T224740Z
UID:1846-1668704400-1668711600@www.gms-freudenberg.de
SUMMARY:1. Elternsprechabend
DESCRIPTION:
URL:https://www.gms-freudenberg.de/kalender/1-elternsprechabend/
END:VEVENT
BEGIN:VEVENT
DTSTART;TZID=Europe/Berlin:20221118T080000
DTEND;TZID=Europe/Berlin:20221118T121500
DTSTAMP:20260422T121508
CREATED:20221120T224904Z
LAST-MODIFIED:20221120T224904Z
UID:1848-1668758400-1668773700@www.gms-freudenberg.de
SUMMARY:Bundesweiter Vorlesetag
DESCRIPTION:
URL:https://www.gms-freudenberg.de/kalender/bundesweiter-vorlesetag/
END:VEVENT
BEGIN:VEVENT
DTSTART;TZID=Europe/Berlin:20221126T150000
DTEND;TZID=Europe/Berlin:20221126T160000
DTSTAMP:20260422T121508
CREATED:20221120T224139Z
LAST-MODIFIED:20221120T224139Z
UID:1840-1669474800-1669478400@www.gms-freudenberg.de
SUMMARY:Lintacher Weihnachtsmarkt
DESCRIPTION:
URL:https://www.gms-freudenberg.de/kalender/lintacher-weihnachtsmarkt/
END:VEVENT
BEGIN:VEVENT
DTSTART;TZID=Europe/Berlin:20221129T183000
DTEND;TZID=Europe/Berlin:20221129T200000
DTSTAMP:20260422T121508
CREATED:20221120T230414Z
LAST-MODIFIED:20221120T230650Z
UID:1856-1669746600-1669752000@www.gms-freudenberg.de
SUMMARY:Mitgliederversammlung Förderverein
DESCRIPTION:Aula Schulgebäude Wutschdorf
URL:https://www.gms-freudenberg.de/kalender/mitgliederversammlung-foerderverein/
END:VEVENT
BEGIN:VEVENT
DTSTART;TZID=Europe/Berlin:20221130T080000
DTEND;TZID=Europe/Berlin:20221130T093000
DTSTAMP:20260422T121508
CREATED:20221120T224345Z
LAST-MODIFIED:20221120T224345Z
UID:1842-1669795200-1669800600@www.gms-freudenberg.de
SUMMARY:Busschule für die 1. und 2. Klasse
DESCRIPTION:
URL:https://www.gms-freudenberg.de/kalender/busschule-fuer-die-1-und-2-klasse/
END:VEVENT
END:VCALENDAR