BEGIN:VCALENDAR
VERSION:2.0
PRODID:-//Grund- und Mittelschule Freudenberg - ECPv6.15.20//NONSGML v1.0//EN
CALSCALE:GREGORIAN
METHOD:PUBLISH
X-ORIGINAL-URL:https://www.gms-freudenberg.de
X-WR-CALDESC:Veranstaltungen für Grund- und Mittelschule Freudenberg
REFRESH-INTERVAL;VALUE=DURATION:PT1H
X-Robots-Tag:noindex
X-PUBLISHED-TTL:PT1H
BEGIN:VTIMEZONE
TZID:Europe/Berlin
BEGIN:DAYLIGHT
TZOFFSETFROM:+0100
TZOFFSETTO:+0200
TZNAME:CEST
DTSTART:20210328T010000
END:DAYLIGHT
BEGIN:STANDARD
TZOFFSETFROM:+0200
TZOFFSETTO:+0100
TZNAME:CET
DTSTART:20211031T010000
END:STANDARD
BEGIN:DAYLIGHT
TZOFFSETFROM:+0100
TZOFFSETTO:+0200
TZNAME:CEST
DTSTART:20220327T010000
END:DAYLIGHT
BEGIN:STANDARD
TZOFFSETFROM:+0200
TZOFFSETTO:+0100
TZNAME:CET
DTSTART:20221030T010000
END:STANDARD
BEGIN:DAYLIGHT
TZOFFSETFROM:+0100
TZOFFSETTO:+0200
TZNAME:CEST
DTSTART:20230326T010000
END:DAYLIGHT
BEGIN:STANDARD
TZOFFSETFROM:+0200
TZOFFSETTO:+0100
TZNAME:CET
DTSTART:20231029T010000
END:STANDARD
END:VTIMEZONE
BEGIN:VEVENT
DTSTART;TZID=Europe/Berlin:20221207T080000
DTEND;TZID=Europe/Berlin:20221207T113000
DTSTAMP:20260422T134736
CREATED:20221120T225259Z
LAST-MODIFIED:20221120T225400Z
UID:1852-1670400000-1670412600@www.gms-freudenberg.de
SUMMARY:Theater Maskara (1. bis 6. Jahrgangsstufe)
DESCRIPTION:
URL:https://www.gms-freudenberg.de/kalender/theater-maskara-1-bis-6-jahrgangsstufe/
END:VEVENT
BEGIN:VEVENT
DTSTART;TZID=Europe/Berlin:20221215T160000
DTEND;TZID=Europe/Berlin:20221215T180000
DTSTAMP:20260422T134736
CREATED:20221120T225127Z
LAST-MODIFIED:20221120T231333Z
UID:1850-1671120000-1671127200@www.gms-freudenberg.de
SUMMARY:Adventsmarkt auf dem Schulgelände (verbindliche Schulveranstaltung!)
DESCRIPTION:Unterrichtsende für alle Klassen um 11:20 Uhr
URL:https://www.gms-freudenberg.de/kalender/adventsmarkt-auf-dem-schulgelaende/
END:VEVENT
BEGIN:VEVENT
DTSTART;VALUE=DATE:20221219
DTEND;VALUE=DATE:20221224
DTSTAMP:20260422T134736
CREATED:20221120T224656Z
LAST-MODIFIED:20221120T224656Z
UID:1844-1671408000-1671839999@www.gms-freudenberg.de
SUMMARY:Probenfreie Woche für die vierte Klasse
DESCRIPTION:
URL:https://www.gms-freudenberg.de/kalender/probenfreie-woche-fuer-die-vierte-klasse-2/
END:VEVENT
BEGIN:VEVENT
DTSTART;TZID=Europe/Berlin:20221223T080000
DTEND;TZID=Europe/Berlin:20221223T112000
DTSTAMP:20260422T134736
CREATED:20221120T225644Z
LAST-MODIFIED:20221120T225644Z
UID:1854-1671782400-1671794400@www.gms-freudenberg.de
SUMMARY:Letzter Schultag vor den Weihnachtsferien
DESCRIPTION:Unterrichtsende für alle Klassen um 11:20 Uhr
URL:https://www.gms-freudenberg.de/kalender/letzter-schultag-vor-den-weihnachtsferien/
END:VEVENT
END:VCALENDAR